Workbook
Name AnoDoCalendário: Janeiro!$AH$4
Name EtiquetaDoTipoDoença: Janeiro!$L$2
Name EtiquetaDoTipoFérias: Janeiro!$D$2
Name EtiquetaDoTipoMotivosPessoais: Janeiro!$G$2
Name EtiquetaDoTipoPersonalizado1: Janeiro!$O$2
Name EtiquetaDoTipoPersonalizado2: Janeiro!$T$2
Name Nome_do_tipo: Janeiro!$B$2
Name NomeDoMês: Abril!$B$4
Name NomeDoMês: Agosto!$B$4
Name NomeDoMês: Dezembro!$B$4
Name NomeDoMês: Fevereiro!$B$4
Name NomeDoMês: Janeiro!$B$4
Name NomeDoMês: Julho!$B$4
Name NomeDoMês: Junho!$B$4
Name NomeDoMês: Maio!$B$4
Name NomeDoMês: Março!$B$4
Name NomeDoMês: Novembro!$B$4
Name NomeDoMês: Outubro!$B$4
Name NomeDoMês: Setembro!$B$4
Name TipoDoença: Janeiro!$K$2
Name TipoFérias: Janeiro!$C$2
Name TipoMotivosPessoais: Janeiro!$F$2
Name TipoPersonalizado1: Janeiro!$N$2
Name TipoPersonalizado2: Janeiro!$S$2
Name Título_Ausências_Funcionários: Janeiro!$B$1
Name Título1: Janeiro[[#Headers],[Nome do Funcionário]]
Name Título10: Outubro[[#Headers],[Nome do Funcionário]]
Name Título11: Novembro[[#Headers],[Nome do Funcionário]]
Name Título12: Dezembro[[#Headers],[Nome do Funcionário]]
Name Título2: Fevereiro[[#Headers],[Nome do Funcionário]]
Name Título3: Março[[#Headers],[Nome do Funcionário]]
Name Título4: Abril[[#Headers],[Nome do Funcionário]]
Name Título5: Maio[[#Headers],[Nome do Funcionário]]
Name Título6: Junho[[#Headers],[Nome do Funcionário]]
Name Título7: Julho[[#Headers],[Nome do Funcionário]]
Name Título8: Agosto[[#Headers],[Nome do Funcionário]]
Name Título9: Setembro[[#Headers],[Nome do Funcionário]]
Name TítuloColuna13: NomeDoFuncionário[[#Headers],[Nomes dos Funcionários]]

Sheet Janeiro
B1: Calendário de Ausências dos Funcionários
B2: Tipo de Ausência | C2: F | D2: Férias | F2: P | G2: Motivos Pessoais | K2: D | L2: Doença | O2: Personalizado 1 | T2: Personalizado 2
AH3: Introduza o ano:
B4: Janeiro | C4: Datas da Ausência | AH4: 2019
C5: =TEXT(WEEKDAY(DATE(AnoDoCalendário,1,1),1),"ddd") -> ter | D5: =TEXT(WEEKDAY(DATE(AnoDoCalendário,1,2),1),"ddd") -> qua | E5: =TEXT(WEEKDAY(DATE(AnoDoCalendário,1,3),1),"ddd") -> qui | F5: =TEXT(WEEKDAY(DATE(AnoDoCalendário,1,4),1),"ddd") -> sex | G5: =TEXT(WEEKDAY(DATE(AnoDoCalendário,1,5),1),"ddd") -> sáb | H5: =TEXT(WEEKDAY(DATE(AnoDoCalendário,1,6),1),"ddd") -> dom | I5: =TEXT(WEEKDAY(DATE(AnoDoCalendário,1,7),1),"ddd") -> seg | J5: =TEXT(WEEKDAY(DATE(AnoDoCalendário,1,8),1),"ddd") -> ter | K5: =TEXT(WEEKDAY(DATE(AnoDoCalendário,1,9),1),"ddd") -> qua | L5: =TEXT(WEEKDAY(DATE(AnoDoCalendário,1,10),1),"ddd") -> qui | M5: =TEXT(WEEKDAY(DATE(AnoDoCalendário,1,11),1),"ddd") -> sex | N5: =TEXT(WEEKDAY(DATE(AnoDoCalendário,1,12),1),"ddd") -> sáb | O5: =TEXT(WEEKDAY(DATE(AnoDoCalendário,1,13),1),"ddd") -> dom | P5: =TEXT(WEEKDAY(DATE(AnoDoCalendário,1,14),1),"ddd") -> seg | Q5: =TEXT(WEEKDAY(DATE(AnoDoCalendário,1,15),1),"ddd") -> ter | R5: =TEXT(WEEKDAY(DATE(AnoDoCalendário,1,16),1),"ddd") -> qua | S5: =TEXT(WEEKDAY(DATE(AnoDoCalendário,1,17),1),"ddd") -> qui | T5: =TEXT(WEEKDAY(DATE(AnoDoCalendário,1,18),1),"ddd") -> sex | U5: =TEXT(WEEKDAY(DATE(AnoDoCalendário,1,19),1),"ddd") -> sáb | V5: =TEXT(WEEKDAY(DATE(AnoDoCalendário,1,20),1),"ddd") -> dom | W5: =TEXT(WEEKDAY(DATE(AnoDoCalendário,1,21),1),"ddd") -> seg | X5: =TEXT(WEEKDAY(DATE(AnoDoCalendário,1,22),1),"ddd") -> ter | Y5: =TEXT(WEEKDAY(DATE(AnoDoCalendário,1,23),1),"ddd") -> qua | Z5: =TEXT(WEEKDAY(DATE(AnoDoCalendário,1,24),1),"ddd") -> qui | AA5: =TEXT(WEEKDAY(DATE(AnoDoCalendário,1,25),1),"ddd") -> sex | AB5: =TEXT(WEEKDAY(DATE(AnoDoCalendário,1,26),1),"ddd") -> sáb | AC5: =TEXT(WEEKDAY(DATE(AnoDoCalendário,1,27),1),"ddd") -> dom | AD5: =TEXT(WEEKDAY(DATE(AnoDoCalendário,1,28),1),"ddd") -> seg | AE5: =TEXT(WEEKDAY(DATE(AnoDoCalendário,1,29),1),"ddd") -> ter | AF5: =TEXT(WEEKDAY(DATE(AnoDoCalendário,1,30),1),"ddd") -> qua | AG5: =TEXT(WEEKDAY(DATE(AnoDoCalendário,1,31),1),"ddd") -> qui
B6: Nome do Funcionário | C6: 1 | D6: 2 | E6: 3 | F6: 4 | G6: 5 | H6: 6 | I6: 7 | J6: 8 | K6: 9 | L6: 10 | M6: 11 | N6: 12 | O6: 13 | P6: 14 | Q6: 15 | R6: 16 | S6: 17 | T6: 18 | U6: 19 | V6: 20 | W6: 21 | X6: 22 | Y6: 23 | Z6: 24 | AA6: 25 | AB6: 26 | AC6: 27 | AD6: 28 | AE6: 29 | AF6: 30 | AG6: 31 | AH6: Total de Dias
B7: Funcionário 1 | AH7: =COUNTA(Janeiro!$C7:$AG7) -> 0
B8: Funcionário 2 | AH8: =COUNTA(Janeiro!$C8:$AG8) -> 0
B9: Funcionário 3 | AH9: =COUNTA(Janeiro!$C9:$AG9) -> 0
B10: Funcionário 4 | AH10: =COUNTA(Janeiro!$C10:$AG10) -> 0
B11: Funcionário 5 | AG11: F | AH11: =COUNTA(Janeiro!$C11:$AG11) -> 1
B12: =NomeDoMês&" Total" -> Janeiro Total | C12: =SUBTOTAL(103,Janeiro!$C$7:$C$11) -> 0 | D12: =SUBTOTAL(103,Janeiro!$D$7:$D$11) -> 0 | E12: =SUBTOTAL(103,Janeiro!$E$7:$E$11) -> 0 | F12: =SUBTOTAL(103,Janeiro!$F$7:$F$11) -> 0 | G12: =SUBTOTAL(103,Janeiro!$G$7:$G$11) -> 0 | H12: =SUBTOTAL(103,Janeiro!$H$7:$H$11) -> 0 | I12: =SUBTOTAL(103,Janeiro!$I$7:$I$11) -> 0 | J12: =SUBTOTAL(103,Janeiro!$J$7:$J$11) -> 0 | K12: =SUBTOTAL(103,Janeiro!$K$7:$K$11) -> 0 | L12: =SUBTOTAL(103,Janeiro!$L$7:$L$11) -> 0 | M12: =SUBTOTAL(103,Janeiro!$M$7:$M$11) -> 0 | N12: =SUBTOTAL(103,Janeiro!$N$7:$N$11) -> 0 | O12: =SUBTOTAL(103,Janeiro!$O$7:$O$11) -> 0 | P12: =SUBTOTAL(103,Janeiro!$P$7:$P$11) -> 0 | Q12: =SUBTOTAL(103,Janeiro!$Q$7:$Q$11) -> 0 | R12: =SUBTOTAL(103,Janeiro!$R$7:$R$11) -> 0 | S12: =SUBTOTAL(103,Janeiro!$S$7:$S$11) -> 0 | T12: =SUBTOTAL(103,Janeiro!$T$7:$T$11) -> 0 | U12: =SUBTOTAL(103,Janeiro!$U$7:$U$11) -> 0 | V12: =SUBTOTAL(103,Janeiro!$V$7:$V$11) -> 0 | W12: =SUBTOTAL(103,Janeiro!$W$7:$W$11) -> 0 | X12: =SUBTOTAL(103,Janeiro!$X$7:$X$11) -> 0 | Y12: =SUBTOTAL(103,Janeiro!$Y$7:$Y$11) -> 0 | Z12: =SUBTOTAL(103,Janeiro!$Z$7:$Z$11) -> 0 | AA12: =SUBTOTAL(103,Janeiro!$AA$7:$AA$11) -> 0 | AB12: =SUBTOTAL(103,Janeiro!$AB$7:$AB$11) -> 0 | AC12: =SUBTOTAL(103,Janeiro!$AC$7:$AC$11) -> 0 | AD12: =SUBTOTAL(103,Janeiro!$AD$7:$AD$11) -> 0 | AE12: =SUBTOTAL(103,Janeiro!$AE$7:$AE$11) -> 0 | AF12: =SUBTOTAL(103,Janeiro!$AF$7:$AF$11) -> 0 | AG12: =SUBTOTAL(103,Janeiro!$AG$7:$AG$11) -> 1 | AH12: =SUBTOTAL(109,Janeiro[Total de Dias]) -> 1

Sheet Fevereiro
B1: =Título_Ausências_Funcionários -> Calendário de Ausências dos Funcionários
B2: Tipo de Ausência | C2: F | D2: Férias | F2: P | G2: Motivos Pessoais | K2: D | L2: Doença | O2: Personalizado 1 | T2: Personalizado 2
B4: Fevereiro | C4: Datas da Ausência | AH4: 2024
C5: =TEXT(WEEKDAY(DATE(AnoDoCalendário,2,1),1),"ddd") -> sex | D5: =TEXT(WEEKDAY(DATE(AnoDoCalendário,2,2),1),"ddd") -> sáb | E5: =TEXT(WEEKDAY(DATE(AnoDoCalendário,2,3),1),"ddd") -> dom | F5: =TEXT(WEEKDAY(DATE(AnoDoCalendário,2,4),1),"ddd") -> seg | G5: =TEXT(WEEKDAY(DATE(AnoDoCalendário,2,5),1),"ddd") -> ter | H5: =TEXT(WEEKDAY(DATE(AnoDoCalendário,2,6),1),"ddd") -> qua | I5: =TEXT(WEEKDAY(DATE(AnoDoCalendário,2,7),1),"ddd") -> qui | J5: =TEXT(WEEKDAY(DATE(AnoDoCalendário,2,8),1),"ddd") -> sex | K5: =TEXT(WEEKDAY(DATE(AnoDoCalendário,2,9),1),"ddd") -> sáb | L5: =TEXT(WEEKDAY(DATE(AnoDoCalendário,2,10),1),"ddd") -> dom | M5: =TEXT(WEEKDAY(DATE(AnoDoCalendário,2,11),1),"ddd") -> seg | N5: =TEXT(WEEKDAY(DATE(AnoDoCalendário,2,12),1),"ddd") -> ter | O5: =TEXT(WEEKDAY(DATE(AnoDoCalendário,2,13),1),"ddd") -> qua | P5: =TEXT(WEEKDAY(DATE(AnoDoCalendário,2,14),1),"ddd") -> qui | Q5: =TEXT(WEEKDAY(DATE(AnoDoCalendário,2,15),1),"ddd") -> sex | R5: =TEXT(WEEKDAY(DATE(AnoDoCalendário,2,16),1),"ddd") -> sáb | S5: =TEXT(WEEKDAY(DATE(AnoDoCalendário,2,17),1),"ddd") -> dom | T5: =TEXT(WEEKDAY(DATE(AnoDoCalendário,2,18),1),"ddd") -> seg | U5: =TEXT(WEEKDAY(DATE(AnoDoCalendário,2,19),1),"ddd") -> ter | V5: =TEXT(WEEKDAY(DATE(AnoDoCalendário,2,20),1),"ddd") -> qua | W5: =TEXT(WEEKDAY(DATE(AnoDoCalendário,2,21),1),"ddd") -> qui | X5: =TEXT(WEEKDAY(DATE(AnoDoCalendário,2,22),1),"ddd") -> sex | Y5: =TEXT(WEEKDAY(DATE(AnoDoCalendário,2,23),1),"ddd") -> sáb | Z5: =TEXT(WEEKDAY(DATE(AnoDoCalendário,2,24),1),"ddd") -> dom | AA5: =TEXT(WEEKDAY(DATE(AnoDoCalendário,2,25),1),"ddd") -> seg | AB5: =TEXT(WEEKDAY(DATE(AnoDoCalendário,2,26),1),"ddd") -> ter | AC5: =TEXT(WEEKDAY(DATE(AnoDoCalendário,2,27),1),"ddd") -> qua | AD5: =TEXT(WEEKDAY(DATE(AnoDoCalendário,2,28),1),"ddd") -> qui | AE5: =TEXT(WEEKDAY(DATE(AnoDoCalendário,2,29),1),"ddd") -> sex
B6: Nome do Funcionário | C6: 1 | D6: 2 | E6: 3 | F6: 4 | G6: 5 | H6: 6 | I6: 7 | J6: 8 | K6: 9 | L6: 10 | M6: 11 | N6: 12 | O6: 13 | P6: 14 | Q6: 15 | R6: 16 | S6: 17 | T6: 18 | U6: 19 | V6: 20 | W6: 21 | X6: 22 | Y6: 23 | Z6: 24 | AA6: 25 | AB6: 26 | AC6: 27 | AD6: 28 | AE6: 29 | AH6: Total de Dias
B7: Funcionário 1 | AH7: =COUNTA(Fevereiro[[#This Row],[1]:[29]]) -> 0
B8: Funcionário 2 | AH8: =COUNTA(Fevereiro[[#This Row],[1]:[29]]) -> 0
B9: Funcionário 3 | AH9: =COUNTA(Fevereiro[[#This Row],[1]:[29]]) -> 0
B10: Funcionário 4 | AH10: =COUNTA(Fevereiro[[#This Row],[1]:[29]]) -> 0
B11: Funcionário 5 | AH11: =COUNTA(Fevereiro[[#This Row],[1]:[29]]) -> 0
B12: =NomeDoMês&" Total" -> Fevereiro Total | C12: =SUBTOTAL(103,Fevereiro[1]) -> 0 | D12: =SUBTOTAL(103,Fevereiro[2]) -> 0 | E12: =SUBTOTAL(103,Fevereiro[3]) -> 0 | F12: =SUBTOTAL(103,Fevereiro[4]) -> 0 | G12: =SUBTOTAL(103,Fevereiro[5]) -> 0 | H12: =SUBTOTAL(103,Fevereiro[6]) -> 0 | I12: =SUBTOTAL(103,Fevereiro[7]) -> 0 | J12: =SUBTOTAL(103,Fevereiro[8]) -> 0 | K12: =SUBTOTAL(103,Fevereiro[9]) -> 0 | L12: =SUBTOTAL(103,Fevereiro[10]) -> 0 | M12: =SUBTOTAL(103,Fevereiro[11]) -> 0 | N12: =SUBTOTAL(103,Fevereiro[12]) -> 0 | O12: =SUBTOTAL(103,Fevereiro[13]) -> 0 | P12: =SUBTOTAL(103,Fevereiro[14]) -> 0 | Q12: =SUBTOTAL(103,Fevereiro[15]) -> 0 | R12: =SUBTOTAL(103,Fevereiro[16]) -> 0 | S12: =SUBTOTAL(103,Fevereiro[17]) -> 0 | T12: =SUBTOTAL(103,Fevereiro[18]) -> 0 | U12: =SUBTOTAL(103,Fevereiro[19]) -> 0 | V12: =SUBTOTAL(103,Fevereiro[20]) -> 0 | W12: =SUBTOTAL(103,Fevereiro[21]) -> 0 | X12: =SUBTOTAL(103,Fevereiro[22]) -> 0 | Y12: =SUBTOTAL(103,Fevereiro[23]) -> 0 | Z12: =SUBTOTAL(103,Fevereiro[24]) -> 0 | AA12: =SUBTOTAL(103,Fevereiro[25]) -> 0 | AB12: =SUBTOTAL(103,Fevereiro[26]) -> 0 | AC12: =SUBTOTAL(103,Fevereiro[27]) -> 0 | AD12: =SUBTOTAL(103,Fevereiro[28]) -> 0 | AE12: =SUBTOTAL(103,Fevereiro[29]) -> 0 | AH12: =SUBTOTAL(109,Fevereiro[Total de Dias]) -> 0

Sheet Março
B1: =Título_Ausências_Funcionários -> Calendário de Ausências dos Funcionários
B2: Tipo de Ausência | C2: F | D2: Férias | F2: P | G2: Motivos Pessoais | K2: D | L2: Doença | O2: Personalizado 1 | T2: Personalizado 2
B4: Março | C4: Datas da Ausência | AH4: =AnoDoCalendário -> 2019
C5: =TEXT(WEEKDAY(DATE(AnoDoCalendário,3,1),1),"ddd") -> sex | D5: =TEXT(WEEKDAY(DATE(AnoDoCalendário,3,2),1),"ddd") -> sáb | E5: =TEXT(WEEKDAY(DATE(AnoDoCalendário,3,3),1),"ddd") -> dom | F5: =TEXT(WEEKDAY(DATE(AnoDoCalendário,3,4),1),"ddd") -> seg | G5: =TEXT(WEEKDAY(DATE(AnoDoCalendário,3,5),1),"ddd") -> ter | H5: =TEXT(WEEKDAY(DATE(AnoDoCalendário,3,6),1),"ddd") -> qua | I5: =TEXT(WEEKDAY(DATE(AnoDoCalendário,3,7),1),"ddd") -> qui | J5: =TEXT(WEEKDAY(DATE(AnoDoCalendário,3,8),1),"ddd") -> sex | K5: =TEXT(WEEKDAY(DATE(AnoDoCalendário,3,9),1),"ddd") -> sáb | L5: =TEXT(WEEKDAY(DATE(AnoDoCalendário,3,10),1),"ddd") -> dom | M5: =TEXT(WEEKDAY(DATE(AnoDoCalendário,3,11),1),"ddd") -> seg | N5: =TEXT(WEEKDAY(DATE(AnoDoCalendário,3,12),1),"ddd") -> ter | O5: =TEXT(WEEKDAY(DATE(AnoDoCalendário,3,13),1),"ddd") -> qua | P5: =TEXT(WEEKDAY(DATE(AnoDoCalendário,3,14),1),"ddd") -> qui | Q5: =TEXT(WEEKDAY(DATE(AnoDoCalendário,3,15),1),"ddd") -> sex | R5: =TEXT(WEEKDAY(DATE(AnoDoCalendário,3,16),1),"ddd") -> sáb | S5: =TEXT(WEEKDAY(DATE(AnoDoCalendário,3,17),1),"ddd") -> dom | T5: =TEXT(WEEKDAY(DATE(AnoDoCalendário,3,18),1),"ddd") -> seg | U5: =TEXT(WEEKDAY(DATE(AnoDoCalendário,3,19),1),"ddd") -> ter | V5: =TEXT(WEEKDAY(DATE(AnoDoCalendário,3,20),1),"ddd") -> qua | W5: =TEXT(WEEKDAY(DATE(AnoDoCalendário,3,21),1),"ddd") -> qui | X5: =TEXT(WEEKDAY(DATE(AnoDoCalendário,3,22),1),"ddd") -> sex | Y5: =TEXT(WEEKDAY(DATE(AnoDoCalendário,3,23),1),"ddd") -> sáb | Z5: =TEXT(WEEKDAY(DATE(AnoDoCalendário,3,24),1),"ddd") -> dom | AA5: =TEXT(WEEKDAY(DATE(AnoDoCalendário,3,25),1),"ddd") -> seg | AB5: =TEXT(WEEKDAY(DATE(AnoDoCalendário,3,26),1),"ddd") -> ter | AC5: =TEXT(WEEKDAY(DATE(AnoDoCalendário,3,27),1),"ddd") -> qua | AD5: =TEXT(WEEKDAY(DATE(AnoDoCalendário,3,28),1),"ddd") -> qui | AE5: =TEXT(WEEKDAY(DATE(AnoDoCalendário,3,29),1),"ddd") -> sex | AF5: =TEXT(WEEKDAY(DATE(AnoDoCalendário,3,30),1),"ddd") -> sáb | AG5: =TEXT(WEEKDAY(DATE(AnoDoCalendário,3,31),1),"ddd") -> dom
B6: Nome do Funcionário | C6: 1 | D6: 2 | E6: 3 | F6: 4 | G6: 5 | H6: 6 | I6: 7 | J6: 8 | K6: 9 | L6: 10 | M6: 11 | N6: 12 | O6: 13 | P6: 14 | Q6: 15 | R6: 16 | S6: 17 | T6: 18 | U6: 19 | V6: 20 | W6: 21 | X6: 22 | Y6: 23 | Z6: 24 | AA6: 25 | AB6: 26 | AC6: 27 | AD6: 28 | AE6: 29 | AF6: 30 | AG6: 31 | AH6: Total de Dias
B7: Funcionário 1 | AH7: =COUNTA(Março[[#This Row],[1]:[31]]) -> 0
B8: Funcionário 2 | AH8: =COUNTA(Março[[#This Row],[1]:[31]]) -> 0
B9: Funcionário 3 | AH9: =COUNTA(Março[[#This Row],[1]:[31]]) -> 0
B10: Funcionário 4 | AH10: =COUNTA(Março[[#This Row],[1]:[31]]) -> 0
B11: Funcionário 5 | AH11: =COUNTA(Março[[#This Row],[1]:[31]]) -> 0
B12: =NomeDoMês&" Total" -> Março Total | C12: =SUBTOTAL(103,Março[1]) -> 0 | D12: =SUBTOTAL(103,Março[2]) -> 0 | E12: =SUBTOTAL(103,Março[3]) -> 0 | F12: =SUBTOTAL(103,Março[4]) -> 0 | G12: =SUBTOTAL(103,Março[5]) -> 0 | H12: =SUBTOTAL(103,Março[6]) -> 0 | I12: =SUBTOTAL(103,Março[7]) -> 0 | J12: =SUBTOTAL(103,Março[8]) -> 0 | K12: =SUBTOTAL(103,Março[9]) -> 0 | L12: =SUBTOTAL(103,Março[10]) -> 0 | M12: =SUBTOTAL(103,Março[11]) -> 0 | N12: =SUBTOTAL(103,Março[12]) -> 0 | O12: =SUBTOTAL(103,Março[13]) -> 0 | P12: =SUBTOTAL(103,Março[14]) -> 0 | Q12: =SUBTOTAL(103,Março[15]) -> 0 | R12: =SUBTOTAL(103,Março[16]) -> 0 | S12: =SUBTOTAL(103,Março[17]) -> 0 | T12: =SUBTOTAL(103,Março[18]) -> 0 | U12: =SUBTOTAL(103,Março[19]) -> 0 | V12: =SUBTOTAL(103,Março[20]) -> 0 | W12: =SUBTOTAL(103,Março[21]) -> 0 | X12: =SUBTOTAL(103,Março[22]) -> 0 | Y12: =SUBTOTAL(103,Março[23]) -> 0 | Z12: =SUBTOTAL(103,Março[24]) -> 0 | AA12: =SUBTOTAL(103,Março[25]) -> 0 | AB12: =SUBTOTAL(103,Março[26]) -> 0 | AC12: =SUBTOTAL(103,Março[27]) -> 0 | AD12: =SUBTOTAL(103,Março[28]) -> 0 | AE12: =SUBTOTAL(103,Março[29]) -> 0 | AF12: =SUBTOTAL(103,Março[30]) -> 0 | AG12: =SUBTOTAL(103,Março[31]) -> 0 | AH12: =SUBTOTAL(109,Março[Total de Dias]) -> 0

Sheet Abril
B1: =Título_Ausências_Funcionários -> Calendário de Ausências dos Funcionários
B2: Tipo de Ausência | C2: F | D2: Férias | F2: P | G2: Motivos Pessoais | K2: D | L2: Doença | O2: Personalizado 1 | T2: Personalizado 2
B4: Abril | C4: Datas da Ausência | AH4: =AnoDoCalendário -> 2019
C5: =TEXT(WEEKDAY(DATE(AnoDoCalendário,4,1),1),"ddd") -> seg | D5: =TEXT(WEEKDAY(DATE(AnoDoCalendário,4,2),1),"ddd") -> ter | E5: =TEXT(WEEKDAY(DATE(AnoDoCalendário,4,3),1),"ddd") -> qua | F5: =TEXT(WEEKDAY(DATE(AnoDoCalendário,4,4),1),"ddd") -> qui | G5: =TEXT(WEEKDAY(DATE(AnoDoCalendário,4,5),1),"ddd") -> sex | H5: =TEXT(WEEKDAY(DATE(AnoDoCalendário,4,6),1),"ddd") -> sáb | I5: =TEXT(WEEKDAY(DATE(AnoDoCalendário,4,7),1),"ddd") -> dom | J5: =TEXT(WEEKDAY(DATE(AnoDoCalendário,4,8),1),"ddd") -> seg | K5: =TEXT(WEEKDAY(DATE(AnoDoCalendário,4,9),1),"ddd") -> ter | L5: =TEXT(WEEKDAY(DATE(AnoDoCalendário,4,10),1),"ddd") -> qua | M5: =TEXT(WEEKDAY(DATE(AnoDoCalendário,4,11),1),"ddd") -> qui | N5: =TEXT(WEEKDAY(DATE(AnoDoCalendário,4,12),1),"ddd") -> sex | O5: =TEXT(WEEKDAY(DATE(AnoDoCalendário,4,13),1),"ddd") -> sáb | P5: =TEXT(WEEKDAY(DATE(AnoDoCalendário,4,14),1),"ddd") -> dom | Q5: =TEXT(WEEKDAY(DATE(AnoDoCalendário,4,15),1),"ddd") -> seg | R5: =TEXT(WEEKDAY(DATE(AnoDoCalendário,4,16),1),"ddd") -> ter | S5: =TEXT(WEEKDAY(DATE(AnoDoCalendário,4,17),1),"ddd") -> qua | T5: =TEXT(WEEKDAY(DATE(AnoDoCalendário,4,18),1),"ddd") -> qui | U5: =TEXT(WEEKDAY(DATE(AnoDoCalendário,4,19),1),"ddd") -> sex | V5: =TEXT(WEEKDAY(DATE(AnoDoCalendário,4,20),1),"ddd") -> sáb | W5: =TEXT(WEEKDAY(DATE(AnoDoCalendário,4,21),1),"ddd") -> dom | X5: =TEXT(WEEKDAY(DATE(AnoDoCalendário,4,22),1),"ddd") -> seg | Y5: =TEXT(WEEKDAY(DATE(AnoDoCalendário,4,23),1),"ddd") -> ter | Z5: =TEXT(WEEKDAY(DATE(AnoDoCalendário,4,24),1),"ddd") -> qua | AA5: =TEXT(WEEKDAY(DATE(AnoDoCalendário,4,25),1),"ddd") -> qui | AB5: =TEXT(WEEKDAY(DATE(AnoDoCalendário,4,26),1),"ddd") -> sex | AC5: =TEXT(WEEKDAY(DATE(AnoDoCalendário,4,27),1),"ddd") -> sáb | AD5: =TEXT(WEEKDAY(DATE(AnoDoCalendário,4,28),1),"ddd") -> dom | AE5: =TEXT(WEEKDAY(DATE(AnoDoCalendário,4,29),1),"ddd") -> seg | AF5: =TEXT(WEEKDAY(DATE(AnoDoCalendário,4,30),1),"ddd") -> ter
B6: Nome do Funcionário | C6: 1 | D6: 2 | E6: 3 | F6: 4 | G6: 5 | H6: 6 | I6: 7 | J6: 8 | K6: 9 | L6: 10 | M6: 11 | N6: 12 | O6: 13 | P6: 14 | Q6: 15 | R6: 16 | S6: 17 | T6: 18 | U6: 19 | V6: 20 | W6: 21 | X6: 22 | Y6: 23 | Z6: 24 | AA6: 25 | AB6: 26 | AC6: 27 | AD6: 28 | AE6: 29 | AF6: 30 | AH6: Total de Dias
B7: Funcionário 1 | AH7: =COUNTA(Abril[[#This Row],[1]:[30]]) -> 0
B8: Funcionário 2 | AH8: =COUNTA(Abril[[#This Row],[1]:[30]]) -> 0
B9: Funcionário 3 | AH9: =COUNTA(Abril[[#This Row],[1]:[30]]) -> 0
B10: Funcionário 4 | AH10: =COUNTA(Abril[[#This Row],[1]:[30]]) -> 0
B11: Funcionário 5 | AH11: =COUNTA(Abril[[#This Row],[1]:[30]]) -> 0
B12: =NomeDoMês&" Total" -> Abril Total | C12: =SUBTOTAL(103,Abril[1]) -> 0 | D12: =SUBTOTAL(103,Abril[2]) -> 0 | E12: =SUBTOTAL(103,Abril[3]) -> 0 | F12: =SUBTOTAL(103,Abril[4]) -> 0 | G12: =SUBTOTAL(103,Abril[5]) -> 0 | H12: =SUBTOTAL(103,Abril[6]) -> 0 | I12: =SUBTOTAL(103,Abril[7]) -> 0 | J12: =SUBTOTAL(103,Abril[8]) -> 0 | K12: =SUBTOTAL(103,Abril[9]) -> 0 | L12: =SUBTOTAL(103,Abril[10]) -> 0 | M12: =SUBTOTAL(103,Abril[11]) -> 0 | N12: =SUBTOTAL(103,Abril[12]) -> 0 | O12: =SUBTOTAL(103,Abril[13]) -> 0 | P12: =SUBTOTAL(103,Abril[14]) -> 0 | Q12: =SUBTOTAL(103,Abril[15]) -> 0 | R12: =SUBTOTAL(103,Abril[16]) -> 0 | S12: =SUBTOTAL(103,Abril[17]) -> 0 | T12: =SUBTOTAL(103,Abril[18]) -> 0 | U12: =SUBTOTAL(103,Abril[19]) -> 0 | V12: =SUBTOTAL(103,Abril[20]) -> 0 | W12: =SUBTOTAL(103,Abril[21]) -> 0 | X12: =SUBTOTAL(103,Abril[22]) -> 0 | Y12: =SUBTOTAL(103,Abril[23]) -> 0 | Z12: =SUBTOTAL(103,Abril[24]) -> 0 | AA12: =SUBTOTAL(103,Abril[25]) -> 0 | AB12: =SUBTOTAL(103,Abril[26]) -> 0 | AC12: =SUBTOTAL(103,Abril[27]) -> 0 | AD12: =SUBTOTAL(103,Abril[28]) -> 0 | AE12: =SUBTOTAL(103,Abril[29]) -> 0 | AF12: =SUBTOTAL(103,Abril[30]) -> 0 | AG12: =SUBTOTAL(103,Abril[30]) -> 0 | AH12: =SUBTOTAL(109,Abril[Total de Dias]) -> 0

Sheet Maio
B1: =Título_Ausências_Funcionários -> Calendário de Ausências dos Funcionários
B2: Tipo de Ausência | C2: F | D2: Férias | F2: P | G2: Motivos Pessoais | K2: D | L2: Doença | O2: Personalizado 1 | T2: Personalizado 2
B4: Maio | C4: Datas da Ausência | AH4: =AnoDoCalendário -> 2019
C5: =TEXT(WEEKDAY(DATE(AnoDoCalendário,5,1),1),"ddd") -> qua | D5: =TEXT(WEEKDAY(DATE(AnoDoCalendário,5,2),1),"ddd") -> qui | E5: =TEXT(WEEKDAY(DATE(AnoDoCalendário,5,3),1),"ddd") -> sex | F5: =TEXT(WEEKDAY(DATE(AnoDoCalendário,5,4),1),"ddd") -> sáb | G5: =TEXT(WEEKDAY(DATE(AnoDoCalendário,5,5),1),"ddd") -> dom | H5: =TEXT(WEEKDAY(DATE(AnoDoCalendário,5,6),1),"ddd") -> seg | I5: =TEXT(WEEKDAY(DATE(AnoDoCalendário,5,7),1),"ddd") -> ter | J5: =TEXT(WEEKDAY(DATE(AnoDoCalendário,5,8),1),"ddd") -> qua | K5: =TEXT(WEEKDAY(DATE(AnoDoCalendário,5,9),1),"ddd") -> qui | L5: =TEXT(WEEKDAY(DATE(AnoDoCalendário,5,10),1),"ddd") -> sex | M5: =TEXT(WEEKDAY(DATE(AnoDoCalendário,5,11),1),"ddd") -> sáb | N5: =TEXT(WEEKDAY(DATE(AnoDoCalendário,5,12),1),"ddd") -> dom | O5: =TEXT(WEEKDAY(DATE(AnoDoCalendário,5,13),1),"ddd") -> seg | P5: =TEXT(WEEKDAY(DATE(AnoDoCalendário,5,14),1),"ddd") -> ter | Q5: =TEXT(WEEKDAY(DATE(AnoDoCalendário,5,15),1),"ddd") -> qua | R5: =TEXT(WEEKDAY(DATE(AnoDoCalendário,5,16),1),"ddd") -> qui | S5: =TEXT(WEEKDAY(DATE(AnoDoCalendário,5,17),1),"ddd") -> sex | T5: =TEXT(WEEKDAY(DATE(AnoDoCalendário,5,18),1),"ddd") -> sáb | U5: =TEXT(WEEKDAY(DATE(AnoDoCalendário,5,19),1),"ddd") -> dom | V5: =TEXT(WEEKDAY(DATE(AnoDoCalendário,5,20),1),"ddd") -> seg | W5: =TEXT(WEEKDAY(DATE(AnoDoCalendário,5,21),1),"ddd") -> ter | X5: =TEXT(WEEKDAY(DATE(AnoDoCalendário,5,22),1),"ddd") -> qua | Y5: =TEXT(WEEKDAY(DATE(AnoDoCalendário,5,23),1),"ddd") -> qui | Z5: =TEXT(WEEKDAY(DATE(AnoDoCalendário,5,24),1),"ddd") -> sex | AA5: =TEXT(WEEKDAY(DATE(AnoDoCalendário,5,25),1),"ddd") -> sáb | AB5: =TEXT(WEEKDAY(DATE(AnoDoCalendário,5,26),1),"ddd") -> dom | AC5: =TEXT(WEEKDAY(DATE(AnoDoCalendário,5,27),1),"ddd") -> seg | AD5: =TEXT(WEEKDAY(DATE(AnoDoCalendário,5,28),1),"ddd") -> ter | AE5: =TEXT(WEEKDAY(DATE(AnoDoCalendário,5,29),1),"ddd") -> qua | AF5: =TEXT(WEEKDAY(DATE(AnoDoCalendário,5,30),1),"ddd") -> qui | AG5: =TEXT(WEEKDAY(DATE(AnoDoCalendário,5,31),1),"ddd") -> sex
B6: Nome do Funcionário | C6: 1 | D6: 2 | E6: 3 | F6: 4 | G6: 5 | H6: 6 | I6: 7 | J6: 8 | K6: 9 | L6: 10 | M6: 11 | N6: 12 | O6: 13 | P6: 14 | Q6: 15 | R6: 16 | S6: 17 | T6: 18 | U6: 19 | V6: 20 | W6: 21 | X6: 22 | Y6: 23 | Z6: 24 | AA6: 25 | AB6: 26 | AC6: 27 | AD6: 28 | AE6: 29 | AF6: 30 | AG6: 31 | AH6: Total de Dias
B7: Funcionário 1 | AH7: =COUNTA(Maio[[#This Row],[1]:[31]]) -> 0
B8: Funcionário 2 | AH8: =COUNTA(Maio[[#This Row],[1]:[31]]) -> 0
B9: Funcionário 3 | AH9: =COUNTA(Maio[[#This Row],[1]:[31]]) -> 0
B10: Funcionário 4 | AH10: =COUNTA(Maio[[#This Row],[1]:[31]]) -> 0
B11: Funcionário 5 | AH11: =COUNTA(Maio[[#This Row],[1]:[31]]) -> 0
B12: =NomeDoMês&" Total" -> Maio Total | C12: =SUBTOTAL(103,Maio[1]) -> 0 | D12: =SUBTOTAL(103,Maio[2]) -> 0 | E12: =SUBTOTAL(103,Maio[3]) -> 0 | F12: =SUBTOTAL(103,Maio[4]) -> 0 | G12: =SUBTOTAL(103,Maio[5]) -> 0 | H12: =SUBTOTAL(103,Maio[6]) -> 0 | I12: =SUBTOTAL(103,Maio[7]) -> 0 | J12: =SUBTOTAL(103,Maio[8]) -> 0 | K12: =SUBTOTAL(103,Maio[9]) -> 0 | L12: =SUBTOTAL(103,Maio[10]) -> 0 | M12: =SUBTOTAL(103,Maio[11]) -> 0 | N12: =SUBTOTAL(103,Maio[12]) -> 0 | O12: =SUBTOTAL(103,Maio[13]) -> 0 | P12: =SUBTOTAL(103,Maio[14]) -> 0 | Q12: =SUBTOTAL(103,Maio[15]) -> 0 | R12: =SUBTOTAL(103,Maio[16]) -> 0 | S12: =SUBTOTAL(103,Maio[17]) -> 0 | T12: =SUBTOTAL(103,Maio[18]) -> 0 | U12: =SUBTOTAL(103,Maio[19]) -> 0 | V12: =SUBTOTAL(103,Maio[20]) -> 0 | W12: =SUBTOTAL(103,Maio[21]) -> 0 | X12: =SUBTOTAL(103,Maio[22]) -> 0 | Y12: =SUBTOTAL(103,Maio[23]) -> 0 | Z12: =SUBTOTAL(103,Maio[24]) -> 0 | AA12: =SUBTOTAL(103,Maio[25]) -> 0 | AB12: =SUBTOTAL(103,Maio[26]) -> 0 | AC12: =SUBTOTAL(103,Maio[27]) -> 0 | AD12: =SUBTOTAL(103,Maio[28]) -> 0 | AE12: =SUBTOTAL(103,Maio[29]) -> 0 | AF12: =SUBTOTAL(103,Maio[30]) -> 0 | AG12: =SUBTOTAL(103,Maio[31]) -> 0 | AH12: =SUBTOTAL(109,Maio[Total de Dias]) -> 0

Sheet Junho
B1: =Título_Ausências_Funcionários -> Calendário de Ausências dos Funcionários
B2: Tipo de Ausência | C2: F | D2: Férias | F2: P | G2: Motivos Pessoais | K2: D | L2: Doença | O2: Personalizado 1 | T2: Personalizado 2
B4: Junho | C4: Datas da Ausência | AH4: =AnoDoCalendário -> 2019
C5: =TEXT(WEEKDAY(DATE(AnoDoCalendário,6,1),1),"ddd") -> sáb | D5: =TEXT(WEEKDAY(DATE(AnoDoCalendário,6,2),1),"ddd") -> dom | E5: =TEXT(WEEKDAY(DATE(AnoDoCalendário,6,3),1),"ddd") -> seg | F5: =TEXT(WEEKDAY(DATE(AnoDoCalendário,6,4),1),"ddd") -> ter | G5: =TEXT(WEEKDAY(DATE(AnoDoCalendário,6,5),1),"ddd") -> qua | H5: =TEXT(WEEKDAY(DATE(AnoDoCalendário,6,6),1),"ddd") -> qui | I5: =TEXT(WEEKDAY(DATE(AnoDoCalendário,6,7),1),"ddd") -> sex | J5: =TEXT(WEEKDAY(DATE(AnoDoCalendário,6,8),1),"ddd") -> sáb | K5: =TEXT(WEEKDAY(DATE(AnoDoCalendário,6,9),1),"ddd") -> dom | L5: =TEXT(WEEKDAY(DATE(AnoDoCalendário,6,10),1),"ddd") -> seg | M5: =TEXT(WEEKDAY(DATE(AnoDoCalendário,6,11),1),"ddd") -> ter | N5: =TEXT(WEEKDAY(DATE(AnoDoCalendário,6,12),1),"ddd") -> qua | O5: =TEXT(WEEKDAY(DATE(AnoDoCalendário,6,13),1),"ddd") -> qui | P5: =TEXT(WEEKDAY(DATE(AnoDoCalendário,6,14),1),"ddd") -> sex | Q5: =TEXT(WEEKDAY(DATE(AnoDoCalendário,6,15),1),"ddd") -> sáb | R5: =TEXT(WEEKDAY(DATE(AnoDoCalendário,6,16),1),"ddd") -> dom | S5: =TEXT(WEEKDAY(DATE(AnoDoCalendário,6,17),1),"ddd") -> seg | T5: =TEXT(WEEKDAY(DATE(AnoDoCalendário,6,18),1),"ddd") -> ter | U5: =TEXT(WEEKDAY(DATE(AnoDoCalendário,6,19),1),"ddd") -> qua | V5: =TEXT(WEEKDAY(DATE(AnoDoCalendário,6,20),1),"ddd") -> qui | W5: =TEXT(WEEKDAY(DATE(AnoDoCalendário,6,21),1),"ddd") -> sex | X5: =TEXT(WEEKDAY(DATE(AnoDoCalendário,6,22),1),"ddd") -> sáb | Y5: =TEXT(WEEKDAY(DATE(AnoDoCalendário,6,23),1),"ddd") -> dom | Z5: =TEXT(WEEKDAY(DATE(AnoDoCalendário,6,24),1),"ddd") -> seg | AA5: =TEXT(WEEKDAY(DATE(AnoDoCalendário,6,25),1),"ddd") -> ter | AB5: =TEXT(WEEKDAY(DATE(AnoDoCalendário,6,26),1),"ddd") -> qua | AC5: =TEXT(WEEKDAY(DATE(AnoDoCalendário,6,27),1),"ddd") -> qui | AD5: =TEXT(WEEKDAY(DATE(AnoDoCalendário,6,28),1),"ddd") -> sex | AE5: =TEXT(WEEKDAY(DATE(AnoDoCalendário,6,29),1),"ddd") -> sáb | AF5: =TEXT(WEEKDAY(DATE(AnoDoCalendário,6,30),1),"ddd") -> dom
B6: Nome do Funcionário | C6: 1 | D6: 2 | E6: 3 | F6: 4 | G6: 5 | H6: 6 | I6: 7 | J6: 8 | K6: 9 | L6: 10 | M6: 11 | N6: 12 | O6: 13 | P6: 14 | Q6: 15 | R6: 16 | S6: 17 | T6: 18 | U6: 19 | V6: 20 | W6: 21 | X6: 22 | Y6: 23 | Z6: 24 | AA6: 25 | AB6: 26 | AC6: 27 | AD6: 28 | AE6: 29 | AF6: 30 | AH6: Total de Dias
B7: Funcionário 1 | AH7: =COUNTA(Junho[[#This Row],[1]:[30]]) -> 0
B8: Funcionário 2 | AH8: =COUNTA(Junho[[#This Row],[1]:[30]]) -> 0
B9: Funcionário 3 | AH9: =COUNTA(Junho[[#This Row],[1]:[30]]) -> 0
B10: Funcionário 4 | AH10: =COUNTA(Junho[[#This Row],[1]:[30]]) -> 0
B11: Funcionário 5 | AH11: =COUNTA(Junho[[#This Row],[1]:[30]]) -> 0
B12: =NomeDoMês&" Total" -> Junho Total | C12: =SUBTOTAL(103,Junho[1]) -> 0 | D12: =SUBTOTAL(103,Junho[2]) -> 0 | E12: =SUBTOTAL(103,Junho[3]) -> 0 | F12: =SUBTOTAL(103,Junho[4]) -> 0 | G12: =SUBTOTAL(103,Junho[5]) -> 0 | H12: =SUBTOTAL(103,Junho[6]) -> 0 | I12: =SUBTOTAL(103,Junho[7]) -> 0 | J12: =SUBTOTAL(103,Junho[8]) -> 0 | K12: =SUBTOTAL(103,Junho[9]) -> 0 | L12: =SUBTOTAL(103,Junho[10]) -> 0 | M12: =SUBTOTAL(103,Junho[11]) -> 0 | N12: =SUBTOTAL(103,Junho[12]) -> 0 | O12: =SUBTOTAL(103,Junho[13]) -> 0 | P12: =SUBTOTAL(103,Junho[14]) -> 0 | Q12: =SUBTOTAL(103,Junho[15]) -> 0 | R12: =SUBTOTAL(103,Junho[16]) -> 0 | S12: =SUBTOTAL(103,Junho[17]) -> 0 | T12: =SUBTOTAL(103,Junho[18]) -> 0 | U12: =SUBTOTAL(103,Junho[19]) -> 0 | V12: =SUBTOTAL(103,Junho[20]) -> 0 | W12: =SUBTOTAL(103,Junho[21]) -> 0 | X12: =SUBTOTAL(103,Junho[22]) -> 0 | Y12: =SUBTOTAL(103,Junho[23]) -> 0 | Z12: =SUBTOTAL(103,Junho[24]) -> 0 | AA12: =SUBTOTAL(103,Junho[25]) -> 0 | AB12: =SUBTOTAL(103,Junho[26]) -> 0 | AC12: =SUBTOTAL(103,Junho[27]) -> 0 | AD12: =SUBTOTAL(103,Junho[28]) -> 0 | AE12: =SUBTOTAL(103,Junho[29]) -> 0 | AF12: =SUBTOTAL(103,Junho[30]) -> 0 | AG12: =SUBTOTAL(103,Junho[[ ]]) -> 0 | AH12: =SUBTOTAL(109,Junho[Total de Dias]) -> 0

Sheet Julho
B1: =Título_Ausências_Funcionários -> Calendário de Ausências dos Funcionários
B2: Tipo de Ausência | C2: F | D2: Férias | F2: P | G2: Motivos Pessoais | K2: D | L2: Doença | O2: Personalizado 1 | T2: Personalizado 2
B4: Julho | C4: Datas da Ausência | AH4: =AnoDoCalendário -> 2019
C5: =TEXT(WEEKDAY(DATE(AnoDoCalendário,7,1),1),"ddd") -> seg | D5: =TEXT(WEEKDAY(DATE(AnoDoCalendário,7,2),1),"ddd") -> ter | E5: =TEXT(WEEKDAY(DATE(AnoDoCalendário,7,3),1),"ddd") -> qua | F5: =TEXT(WEEKDAY(DATE(AnoDoCalendário,7,4),1),"ddd") -> qui | G5: =TEXT(WEEKDAY(DATE(AnoDoCalendário,7,5),1),"ddd") -> sex | H5: =TEXT(WEEKDAY(DATE(AnoDoCalendário,7,6),1),"ddd") -> sáb | I5: =TEXT(WEEKDAY(DATE(AnoDoCalendário,7,7),1),"ddd") -> dom | J5: =TEXT(WEEKDAY(DATE(AnoDoCalendário,7,8),1),"ddd") -> seg | K5: =TEXT(WEEKDAY(DATE(AnoDoCalendário,7,9),1),"ddd") -> ter | L5: =TEXT(WEEKDAY(DATE(AnoDoCalendário,7,10),1),"ddd") -> qua | M5: =TEXT(WEEKDAY(DATE(AnoDoCalendário,7,11),1),"ddd") -> qui | N5: =TEXT(WEEKDAY(DATE(AnoDoCalendário,7,12),1),"ddd") -> sex | O5: =TEXT(WEEKDAY(DATE(AnoDoCalendário,7,13),1),"ddd") -> sáb | P5: =TEXT(WEEKDAY(DATE(AnoDoCalendário,7,14),1),"ddd") -> dom | Q5: =TEXT(WEEKDAY(DATE(AnoDoCalendário,7,15),1),"ddd") -> seg | R5: =TEXT(WEEKDAY(DATE(AnoDoCalendário,7,16),1),"ddd") -> ter | S5: =TEXT(WEEKDAY(DATE(AnoDoCalendário,7,17),1),"ddd") -> qua | T5: =TEXT(WEEKDAY(DATE(AnoDoCalendário,7,18),1),"ddd") -> qui | U5: =TEXT(WEEKDAY(DATE(AnoDoCalendário,7,19),1),"ddd") -> sex | V5: =TEXT(WEEKDAY(DATE(AnoDoCalendário,7,20),1),"ddd") -> sáb | W5: =TEXT(WEEKDAY(DATE(AnoDoCalendário,7,21),1),"ddd") -> dom | X5: =TEXT(WEEKDAY(DATE(AnoDoCalendário,7,22),1),"ddd") -> seg | Y5: =TEXT(WEEKDAY(DATE(AnoDoCalendário,7,23),1),"ddd") -> ter | Z5: =TEXT(WEEKDAY(DATE(AnoDoCalendário,7,24),1),"ddd") -> qua | AA5: =TEXT(WEEKDAY(DATE(AnoDoCalendário,7,25),1),"ddd") -> qui | AB5: =TEXT(WEEKDAY(DATE(AnoDoCalendário,7,26),1),"ddd") -> sex | AC5: =TEXT(WEEKDAY(DATE(AnoDoCalendário,7,27),1),"ddd") -> sáb | AD5: =TEXT(WEEKDAY(DATE(AnoDoCalendário,7,28),1),"ddd") -> dom | AE5: =TEXT(WEEKDAY(DATE(AnoDoCalendário,7,29),1),"ddd") -> seg | AF5: =TEXT(WEEKDAY(DATE(AnoDoCalendário,7,30),1),"ddd") -> ter | AG5: =TEXT(WEEKDAY(DATE(AnoDoCalendário,7,31),1),"ddd") -> qua
B6: Nome do Funcionário | C6: 1 | D6: 2 | E6: 3 | F6: 4 | G6: 5 | H6: 6 | I6: 7 | J6: 8 | K6: 9 | L6: 10 | M6: 11 | N6: 12 | O6: 13 | P6: 14 | Q6: 15 | R6: 16 | S6: 17 | T6: 18 | U6: 19 | V6: 20 | W6: 21 | X6: 22 | Y6: 23 | Z6: 24 | AA6: 25 | AB6: 26 | AC6: 27 | AD6: 28 | AE6: 29 | AF6: 30 | AG6: 31 | AH6: Total de Dias
B7: Funcionário 1 | AH7: =COUNTA(Julho[[#This Row],[1]:[31]]) -> 0
B8: Funcionário 2 | AH8: =COUNTA(Julho[[#This Row],[1]:[31]]) -> 0
B9: Funcionário 3 | AH9: =COUNTA(Julho[[#This Row],[1]:[31]]) -> 0
B10: Funcionário 4 | AH10: =COUNTA(Julho[[#This Row],[1]:[31]]) -> 0
B11: Funcionário 5 | AH11: =COUNTA(Julho[[#This Row],[1]:[31]]) -> 0
B12: =NomeDoMês&" Total" -> Julho Total | C12: =SUBTOTAL(103,Julho[1]) -> 0 | D12: =SUBTOTAL(103,Julho[2]) -> 0 | E12: =SUBTOTAL(103,Julho[3]) -> 0 | F12: =SUBTOTAL(103,Julho[4]) -> 0 | G12: =SUBTOTAL(103,Julho[5]) -> 0 | H12: =SUBTOTAL(103,Julho[6]) -> 0 | I12: =SUBTOTAL(103,Julho[7]) -> 0 | J12: =SUBTOTAL(103,Julho[8]) -> 0 | K12: =SUBTOTAL(103,Julho[9]) -> 0 | L12: =SUBTOTAL(103,Julho[10]) -> 0 | M12: =SUBTOTAL(103,Julho[11]) -> 0 | N12: =SUBTOTAL(103,Julho[12]) -> 0 | O12: =SUBTOTAL(103,Julho[13]) -> 0 | P12: =SUBTOTAL(103,Julho[14]) -> 0 | Q12: =SUBTOTAL(103,Julho[15]) -> 0 | R12: =SUBTOTAL(103,Julho[16]) -> 0 | S12: =SUBTOTAL(103,Julho[17]) -> 0 | T12: =SUBTOTAL(103,Julho[18]) -> 0 | U12: =SUBTOTAL(103,Julho[19]) -> 0 | V12: =SUBTOTAL(103,Julho[20]) -> 0 | W12: =SUBTOTAL(103,Julho[21]) -> 0 | X12: =SUBTOTAL(103,Julho[22]) -> 0 | Y12: =SUBTOTAL(103,Julho[23]) -> 0 | Z12: =SUBTOTAL(103,Julho[24]) -> 0 | AA12: =SUBTOTAL(103,Julho[25]) -> 0 | AB12: =SUBTOTAL(103,Julho[26]) -> 0 | AC12: =SUBTOTAL(103,Julho[27]) -> 0 | AD12: =SUBTOTAL(103,Julho[28]) -> 0 | AE12: =SUBTOTAL(103,Julho[29]) -> 0 | AF12: =SUBTOTAL(103,Julho[30]) -> 0 | AG12: =SUBTOTAL(103,Julho[31]) -> 0 | AH12: =SUBTOTAL(109,Julho[Total de Dias]) -> 0

Sheet Agosto
B1: =Título_Ausências_Funcionários -> Calendário de Ausências dos Funcionários
B2: Tipo de Ausência | C2: F | D2: Férias | F2: P | G2: Motivos Pessoais | K2: D | L2: Doença | O2: Personalizado 1 | T2: Personalizado 2
B4: Agosto | C4: Datas da Ausência | AH4: =AnoDoCalendário -> 2019
C5: =TEXT(WEEKDAY(DATE(AnoDoCalendário,8,1),1),"ddd") -> qui | D5: =TEXT(WEEKDAY(DATE(AnoDoCalendário,8,2),1),"ddd") -> sex | E5: =TEXT(WEEKDAY(DATE(AnoDoCalendário,8,3),1),"ddd") -> sáb | F5: =TEXT(WEEKDAY(DATE(AnoDoCalendário,8,4),1),"ddd") -> dom | G5: =TEXT(WEEKDAY(DATE(AnoDoCalendário,8,5),1),"ddd") -> seg | H5: =TEXT(WEEKDAY(DATE(AnoDoCalendário,8,6),1),"ddd") -> ter | I5: =TEXT(WEEKDAY(DATE(AnoDoCalendário,8,7),1),"ddd") -> qua | J5: =TEXT(WEEKDAY(DATE(AnoDoCalendário,8,8),1),"ddd") -> qui | K5: =TEXT(WEEKDAY(DATE(AnoDoCalendário,8,9),1),"ddd") -> sex | L5: =TEXT(WEEKDAY(DATE(AnoDoCalendário,8,10),1),"ddd") -> sáb | M5: =TEXT(WEEKDAY(DATE(AnoDoCalendário,8,11),1),"ddd") -> dom | N5: =TEXT(WEEKDAY(DATE(AnoDoCalendário,8,12),1),"ddd") -> seg | O5: =TEXT(WEEKDAY(DATE(AnoDoCalendário,8,13),1),"ddd") -> ter | P5: =TEXT(WEEKDAY(DATE(AnoDoCalendário,8,14),1),"ddd") -> qua | Q5: =TEXT(WEEKDAY(DATE(AnoDoCalendário,8,15),1),"ddd") -> qui | R5: =TEXT(WEEKDAY(DATE(AnoDoCalendário,8,16),1),"ddd") -> sex | S5: =TEXT(WEEKDAY(DATE(AnoDoCalendário,8,17),1),"ddd") -> sáb | T5: =TEXT(WEEKDAY(DATE(AnoDoCalendário,8,18),1),"ddd") -> dom | U5: =TEXT(WEEKDAY(DATE(AnoDoCalendário,8,19),1),"ddd") -> seg | V5: =TEXT(WEEKDAY(DATE(AnoDoCalendário,8,20),1),"ddd") -> ter | W5: =TEXT(WEEKDAY(DATE(AnoDoCalendário,8,21),1),"ddd") -> qua | X5: =TEXT(WEEKDAY(DATE(AnoDoCalendário,8,22),1),"ddd") -> qui | Y5: =TEXT(WEEKDAY(DATE(AnoDoCalendário,8,23),1),"ddd") -> sex | Z5: =TEXT(WEEKDAY(DATE(AnoDoCalendário,8,24),1),"ddd") -> sáb | AA5: =TEXT(WEEKDAY(DATE(AnoDoCalendário,8,25),1),"ddd") -> dom | AB5: =TEXT(WEEKDAY(DATE(AnoDoCalendário,8,26),1),"ddd") -> seg | AC5: =TEXT(WEEKDAY(DATE(AnoDoCalendário,8,27),1),"ddd") -> ter | AD5: =TEXT(WEEKDAY(DATE(AnoDoCalendário,8,28),1),"ddd") -> qua | AE5: =TEXT(WEEKDAY(DATE(AnoDoCalendário,8,29),1),"ddd") -> qui | AF5: =TEXT(WEEKDAY(DATE(AnoDoCalendário,8,30),1),"ddd") -> sex | AG5: =TEXT(WEEKDAY(DATE(AnoDoCalendário,8,31),1),"ddd") -> sáb
B6: Nome do Funcionário | C6: 1 | D6: 2 | E6: 3 | F6: 4 | G6: 5 | H6: 6 | I6: 7 | J6: 8 | K6: 9 | L6: 10 | M6: 11 | N6: 12 | O6: 13 | P6: 14 | Q6: 15 | R6: 16 | S6: 17 | T6: 18 | U6: 19 | V6: 20 | W6: 21 | X6: 22 | Y6: 23 | Z6: 24 | AA6: 25 | AB6: 26 | AC6: 27 | AD6: 28 | AE6: 29 | AF6: 30 | AG6: 31 | AH6: Total de Dias
B7: Funcionário 1 | AH7: =COUNTA(Agosto[[#This Row],[1]:[31]]) -> 0
B8: Funcionário 2 | AH8: =COUNTA(Agosto[[#This Row],[1]:[31]]) -> 0
B9: Funcionário 3 | AH9: =COUNTA(Agosto[[#This Row],[1]:[31]]) -> 0
B10: Funcionário 4 | AH10: =COUNTA(Agosto[[#This Row],[1]:[31]]) -> 0
B11: Funcionário 5 | AH11: =COUNTA(Agosto[[#This Row],[1]:[31]]) -> 0
B12: =NomeDoMês&" Total" -> Agosto Total | C12: =SUBTOTAL(103,Agosto[1]) -> 0 | D12: =SUBTOTAL(103,Agosto[2]) -> 0 | E12: =SUBTOTAL(103,Agosto[3]) -> 0 | F12: =SUBTOTAL(103,Agosto[4]) -> 0 | G12: =SUBTOTAL(103,Agosto[5]) -> 0 | H12: =SUBTOTAL(103,Agosto[6]) -> 0 | I12: =SUBTOTAL(103,Agosto[7]) -> 0 | J12: =SUBTOTAL(103,Agosto[8]) -> 0 | K12: =SUBTOTAL(103,Agosto[9]) -> 0 | L12: =SUBTOTAL(103,Agosto[10]) -> 0 | M12: =SUBTOTAL(103,Agosto[11]) -> 0 | N12: =SUBTOTAL(103,Agosto[12]) -> 0 | O12: =SUBTOTAL(103,Agosto[13]) -> 0 | P12: =SUBTOTAL(103,Agosto[14]) -> 0 | Q12: =SUBTOTAL(103,Agosto[15]) -> 0 | R12: =SUBTOTAL(103,Agosto[16]) -> 0 | S12: =SUBTOTAL(103,Agosto[17]) -> 0 | T12: =SUBTOTAL(103,Agosto[18]) -> 0 | U12: =SUBTOTAL(103,Agosto[19]) -> 0 | V12: =SUBTOTAL(103,Agosto[20]) -> 0 | W12: =SUBTOTAL(103,Agosto[21]) -> 0 | X12: =SUBTOTAL(103,Agosto[22]) -> 0 | Y12: =SUBTOTAL(103,Agosto[23]) -> 0 | Z12: =SUBTOTAL(103,Agosto[24]) -> 0 | AA12: =SUBTOTAL(103,Agosto[25]) -> 0 | AB12: =SUBTOTAL(103,Agosto[26]) -> 0 | AC12: =SUBTOTAL(103,Agosto[27]) -> 0 | AD12: =SUBTOTAL(103,Agosto[28]) -> 0 | AE12: =SUBTOTAL(103,Agosto[29]) -> 0 | AF12: =SUBTOTAL(103,Agosto[30]) -> 0 | AG12: =SUBTOTAL(103,Agosto[31]) -> 0 | AH12: =SUBTOTAL(109,Agosto[Total de Dias]) -> 0

Sheet Setembro
B1: =Título_Ausências_Funcionários -> Calendário de Ausências dos Funcionários
B2: Tipo de Ausência | C2: F | D2: Férias | F2: P | G2: Motivos Pessoais | K2: D | L2: Doença | O2: Personalizado 1 | T2: Personalizado 2
B4: Setembro | C4: Datas da Ausência | AH4: =AnoDoCalendário -> 2019
C5: =TEXT(WEEKDAY(DATE(AnoDoCalendário,9,1),1),"ddd") -> dom | D5: =TEXT(WEEKDAY(DATE(AnoDoCalendário,9,2),1),"ddd") -> seg | E5: =TEXT(WEEKDAY(DATE(AnoDoCalendário,9,3),1),"ddd") -> ter | F5: =TEXT(WEEKDAY(DATE(AnoDoCalendário,9,4),1),"ddd") -> qua | G5: =TEXT(WEEKDAY(DATE(AnoDoCalendário,9,5),1),"ddd") -> qui | H5: =TEXT(WEEKDAY(DATE(AnoDoCalendário,9,6),1),"ddd") -> sex | I5: =TEXT(WEEKDAY(DATE(AnoDoCalendário,9,7),1),"ddd") -> sáb | J5: =TEXT(WEEKDAY(DATE(AnoDoCalendário,9,8),1),"ddd") -> dom | K5: =TEXT(WEEKDAY(DATE(AnoDoCalendário,9,9),1),"ddd") -> seg | L5: =TEXT(WEEKDAY(DATE(AnoDoCalendário,9,10),1),"ddd") -> ter | M5: =TEXT(WEEKDAY(DATE(AnoDoCalendário,9,11),1),"ddd") -> qua | N5: =TEXT(WEEKDAY(DATE(AnoDoCalendário,9,12),1),"ddd") -> qui | O5: =TEXT(WEEKDAY(DATE(AnoDoCalendário,9,13),1),"ddd") -> sex | P5: =TEXT(WEEKDAY(DATE(AnoDoCalendário,9,14),1),"ddd") -> sáb | Q5: =TEXT(WEEKDAY(DATE(AnoDoCalendário,9,15),1),"ddd") -> dom | R5: =TEXT(WEEKDAY(DATE(AnoDoCalendário,9,16),1),"ddd") -> seg | S5: =TEXT(WEEKDAY(DATE(AnoDoCalendário,9,17),1),"ddd") -> ter | T5: =TEXT(WEEKDAY(DATE(AnoDoCalendário,9,18),1),"ddd") -> qua | U5: =TEXT(WEEKDAY(DATE(AnoDoCalendário,9,19),1),"ddd") -> qui | V5: =TEXT(WEEKDAY(DATE(AnoDoCalendário,9,20),1),"ddd") -> sex | W5: =TEXT(WEEKDAY(DATE(AnoDoCalendário,9,21),1),"ddd") -> sáb | X5: =TEXT(WEEKDAY(DATE(AnoDoCalendário,9,22),1),"ddd") -> dom | Y5: =TEXT(WEEKDAY(DATE(AnoDoCalendário,9,23),1),"ddd") -> seg | Z5: =TEXT(WEEKDAY(DATE(AnoDoCalendário,9,24),1),"ddd") -> ter | AA5: =TEXT(WEEKDAY(DATE(AnoDoCalendário,9,25),1),"ddd") -> qua | AB5: =TEXT(WEEKDAY(DATE(AnoDoCalendário,9,26),1),"ddd") -> qui | AC5: =TEXT(WEEKDAY(DATE(AnoDoCalendário,9,27),1),"ddd") -> sex | AD5: =TEXT(WEEKDAY(DATE(AnoDoCalendário,9,28),1),"ddd") -> sáb | AE5: =TEXT(WEEKDAY(DATE(AnoDoCalendário,9,29),1),"ddd") -> dom | AF5: =TEXT(WEEKDAY(DATE(AnoDoCalendário,9,30),1),"ddd") -> seg
B6: Nome do Funcionário | C6: 1 | D6: 2 | E6: 3 | F6: 4 | G6: 5 | H6: 6 | I6: 7 | J6: 8 | K6: 9 | L6: 10 | M6: 11 | N6: 12 | O6: 13 | P6: 14 | Q6: 15 | R6: 16 | S6: 17 | T6: 18 | U6: 19 | V6: 20 | W6: 21 | X6: 22 | Y6: 23 | Z6: 24 | AA6: 25 | AB6: 26 | AC6: 27 | AD6: 28 | AE6: 29 | AF6: 30 | AH6: Total de Dias
B7: Funcionário 1 | AH7: =COUNTA(Setembro[[#This Row],[1]:[30]]) -> 0
B8: Funcionário 2 | AH8: =COUNTA(Setembro[[#This Row],[1]:[30]]) -> 0
B9: Funcionário 3 | AH9: =COUNTA(Setembro[[#This Row],[1]:[30]]) -> 0
B10: Funcionário 4 | AH10: =COUNTA(Setembro[[#This Row],[1]:[30]]) -> 0
B11: Funcionário 5 | AH11: =COUNTA(Setembro[[#This Row],[1]:[30]]) -> 0
B12: =NomeDoMês&" Total" -> Setembro Total | C12: =SUBTOTAL(103,Setembro[1]) -> 0 | D12: =SUBTOTAL(103,Setembro[2]) -> 0 | E12: =SUBTOTAL(103,Setembro[3]) -> 0 | F12: =SUBTOTAL(103,Setembro[4]) -> 0 | G12: =SUBTOTAL(103,Setembro[5]) -> 0 | H12: =SUBTOTAL(103,Setembro[6]) -> 0 | I12: =SUBTOTAL(103,Setembro[7]) -> 0 | J12: =SUBTOTAL(103,Setembro[8]) -> 0 | K12: =SUBTOTAL(103,Setembro[9]) -> 0 | L12: =SUBTOTAL(103,Setembro[10]) -> 0 | M12: =SUBTOTAL(103,Setembro[11]) -> 0 | N12: =SUBTOTAL(103,Setembro[12]) -> 0 | O12: =SUBTOTAL(103,Setembro[13]) -> 0 | P12: =SUBTOTAL(103,Setembro[14]) -> 0 | Q12: =SUBTOTAL(103,Setembro[15]) -> 0 | R12: =SUBTOTAL(103,Setembro[16]) -> 0 | S12: =SUBTOTAL(103,Setembro[17]) -> 0 | T12: =SUBTOTAL(103,Setembro[18]) -> 0 | U12: =SUBTOTAL(103,Setembro[19]) -> 0 | V12: =SUBTOTAL(103,Setembro[20]) -> 0 | W12: =SUBTOTAL(103,Setembro[21]) -> 0 | X12: =SUBTOTAL(103,Setembro[22]) -> 0 | Y12: =SUBTOTAL(103,Setembro[23]) -> 0 | Z12: =SUBTOTAL(103,Setembro[24]) -> 0 | AA12: =SUBTOTAL(103,Setembro[25]) -> 0 | AB12: =SUBTOTAL(103,Setembro[26]) -> 0 | AC12: =SUBTOTAL(103,Setembro[27]) -> 0 | AD12: =SUBTOTAL(103,Setembro[28]) -> 0 | AE12: =SUBTOTAL(103,Setembro[29]) -> 0 | AF12: =SUBTOTAL(103,Setembro[30]) -> 0 | AG12: =SUBTOTAL(103,Setembro[[ ]]) -> 0 | AH12: =SUBTOTAL(109,Setembro[Total de Dias]) -> 0

Sheet Outubro
B1: =Título_Ausências_Funcionários -> Calendário de Ausências dos Funcionários
B2: Tipo de Ausência | C2: F | D2: Férias | F2: P | G2: Motivos Pessoais | K2: D | L2: Doença | O2: Personalizado 1 | T2: Personalizado 2
B4: Outubro | C4: Datas da Ausência | AH4: =AnoDoCalendário -> 2019
C5: =TEXT(WEEKDAY(DATE(AnoDoCalendário,10,1),1),"ddd") -> ter | D5: =TEXT(WEEKDAY(DATE(AnoDoCalendário,10,2),1),"ddd") -> qua | E5: =TEXT(WEEKDAY(DATE(AnoDoCalendário,10,3),1),"ddd") -> qui | F5: =TEXT(WEEKDAY(DATE(AnoDoCalendário,10,4),1),"ddd") -> sex | G5: =TEXT(WEEKDAY(DATE(AnoDoCalendário,10,5),1),"ddd") -> sáb | H5: =TEXT(WEEKDAY(DATE(AnoDoCalendário,10,6),1),"ddd") -> dom | I5: =TEXT(WEEKDAY(DATE(AnoDoCalendário,10,7),1),"ddd") -> seg | J5: =TEXT(WEEKDAY(DATE(AnoDoCalendário,10,8),1),"ddd") -> ter | K5: =TEXT(WEEKDAY(DATE(AnoDoCalendário,10,9),1),"ddd") -> qua | L5: =TEXT(WEEKDAY(DATE(AnoDoCalendário,10,10),1),"ddd") -> qui | M5: =TEXT(WEEKDAY(DATE(AnoDoCalendário,10,11),1),"ddd") -> sex | N5: =TEXT(WEEKDAY(DATE(AnoDoCalendário,10,12),1),"ddd") -> sáb | O5: =TEXT(WEEKDAY(DATE(AnoDoCalendário,10,13),1),"ddd") -> dom | P5: =TEXT(WEEKDAY(DATE(AnoDoCalendário,10,14),1),"ddd") -> seg | Q5: =TEXT(WEEKDAY(DATE(AnoDoCalendário,10,15),1),"ddd") -> ter | R5: =TEXT(WEEKDAY(DATE(AnoDoCalendário,10,16),1),"ddd") -> qua | S5: =TEXT(WEEKDAY(DATE(AnoDoCalendário,10,17),1),"ddd") -> qui | T5: =TEXT(WEEKDAY(DATE(AnoDoCalendário,10,18),1),"ddd") -> sex | U5: =TEXT(WEEKDAY(DATE(AnoDoCalendário,10,19),1),"ddd") -> sáb | V5: =TEXT(WEEKDAY(DATE(AnoDoCalendário,10,20),1),"ddd") -> dom | W5: =TEXT(WEEKDAY(DATE(AnoDoCalendário,10,21),1),"ddd") -> seg | X5: =TEXT(WEEKDAY(DATE(AnoDoCalendário,10,22),1),"ddd") -> ter | Y5: =TEXT(WEEKDAY(DATE(AnoDoCalendário,10,23),1),"ddd") -> qua | Z5: =TEXT(WEEKDAY(DATE(AnoDoCalendário,10,24),1),"ddd") -> qui | AA5: =TEXT(WEEKDAY(DATE(AnoDoCalendário,10,25),1),"ddd") -> sex | AB5: =TEXT(WEEKDAY(DATE(AnoDoCalendário,10,26),1),"ddd") -> sáb | AC5: =TEXT(WEEKDAY(DATE(AnoDoCalendário,10,27),1),"ddd") -> dom | AD5: =TEXT(WEEKDAY(DATE(AnoDoCalendário,10,28),1),"ddd") -> seg | AE5: =TEXT(WEEKDAY(DATE(AnoDoCalendário,10,29),1),"ddd") -> ter | AF5: =TEXT(WEEKDAY(DATE(AnoDoCalendário,10,30),1),"ddd") -> qua | AG5: =TEXT(WEEKDAY(DATE(AnoDoCalendário,10,31),1),"ddd") -> qui
B6: Nome do Funcionário | C6: 1 | D6: 2 | E6: 3 | F6: 4 | G6: 5 | H6: 6 | I6: 7 | J6: 8 | K6: 9 | L6: 10 | M6: 11 | N6: 12 | O6: 13 | P6: 14 | Q6: 15 | R6: 16 | S6: 17 | T6: 18 | U6: 19 | V6: 20 | W6: 21 | X6: 22 | Y6: 23 | Z6: 24 | AA6: 25 | AB6: 26 | AC6: 27 | AD6: 28 | AE6: 29 | AF6: 30 | AG6: 31 | AH6: Total de Dias
B7: Funcionário 1 | AH7: =COUNTA(Outubro[[#This Row],[1]:[31]]) -> 0
B8: Funcionário 2 | AH8: =COUNTA(Outubro[[#This Row],[1]:[31]]) -> 0
B9: Funcionário 3 | AH9: =COUNTA(Outubro[[#This Row],[1]:[31]]) -> 0
B10: Funcionário 4 | AH10: =COUNTA(Outubro[[#This Row],[1]:[31]]) -> 0
B11: Funcionário 5 | AH11: =COUNTA(Outubro[[#This Row],[1]:[31]]) -> 0
B12: =NomeDoMês&" Total" -> Outubro Total | C12: =SUBTOTAL(103,Outubro[1]) -> 0 | D12: =SUBTOTAL(103,Outubro[2]) -> 0 | E12: =SUBTOTAL(103,Outubro[3]) -> 0 | F12: =SUBTOTAL(103,Outubro[4]) -> 0 | G12: =SUBTOTAL(103,Outubro[5]) -> 0 | H12: =SUBTOTAL(103,Outubro[6]) -> 0 | I12: =SUBTOTAL(103,Outubro[7]) -> 0 | J12: =SUBTOTAL(103,Outubro[8]) -> 0 | K12: =SUBTOTAL(103,Outubro[9]) -> 0 | L12: =SUBTOTAL(103,Outubro[10]) -> 0 | M12: =SUBTOTAL(103,Outubro[11]) -> 0 | N12: =SUBTOTAL(103,Outubro[12]) -> 0 | O12: =SUBTOTAL(103,Outubro[13]) -> 0 | P12: =SUBTOTAL(103,Outubro[14]) -> 0 | Q12: =SUBTOTAL(103,Outubro[15]) -> 0 | R12: =SUBTOTAL(103,Outubro[16]) -> 0 | S12: =SUBTOTAL(103,Outubro[17]) -> 0 | T12: =SUBTOTAL(103,Outubro[18]) -> 0 | U12: =SUBTOTAL(103,Outubro[19]) -> 0 | V12: =SUBTOTAL(103,Outubro[20]) -> 0 | W12: =SUBTOTAL(103,Outubro[21]) -> 0 | X12: =SUBTOTAL(103,Outubro[22]) -> 0 | Y12: =SUBTOTAL(103,Outubro[23]) -> 0 | Z12: =SUBTOTAL(103,Outubro[24]) -> 0 | AA12: =SUBTOTAL(103,Outubro[25]) -> 0 | AB12: =SUBTOTAL(103,Outubro[26]) -> 0 | AC12: =SUBTOTAL(103,Outubro[27]) -> 0 | AD12: =SUBTOTAL(103,Outubro[28]) -> 0 | AE12: =SUBTOTAL(103,Outubro[29]) -> 0 | AF12: =SUBTOTAL(103,Outubro[30]) -> 0 | AG12: =SUBTOTAL(103,Outubro[31]) -> 0 | AH12: =SUBTOTAL(109,Outubro[Total de Dias]) -> 0

Sheet Novembro
B1: =Título_Ausências_Funcionários -> Calendário de Ausências dos Funcionários
B2: Tipo de Ausência | C2: F | D2: Férias | F2: P | G2: Motivos Pessoais | K2: D | L2: Doença | O2: Personalizado 1 | T2: Personalizado 2
B4: Novembro | C4: Datas da Ausência | AH4: =AnoDoCalendário -> 2019
C5: =TEXT(WEEKDAY(DATE(AnoDoCalendário,11,1),1),"ddd") -> sex | D5: =TEXT(WEEKDAY(DATE(AnoDoCalendário,11,2),1),"ddd") -> sáb | E5: =TEXT(WEEKDAY(DATE(AnoDoCalendário,11,3),1),"ddd") -> dom | F5: =TEXT(WEEKDAY(DATE(AnoDoCalendário,11,4),1),"ddd") -> seg | G5: =TEXT(WEEKDAY(DATE(AnoDoCalendário,11,5),1),"ddd") -> ter | H5: =TEXT(WEEKDAY(DATE(AnoDoCalendário,11,6),1),"ddd") -> qua | I5: =TEXT(WEEKDAY(DATE(AnoDoCalendário,11,7),1),"ddd") -> qui | J5: =TEXT(WEEKDAY(DATE(AnoDoCalendário,11,8),1),"ddd") -> sex | K5: =TEXT(WEEKDAY(DATE(AnoDoCalendário,11,9),1),"ddd") -> sáb | L5: =TEXT(WEEKDAY(DATE(AnoDoCalendário,11,10),1),"ddd") -> dom | M5: =TEXT(WEEKDAY(DATE(AnoDoCalendário,11,11),1),"ddd") -> seg | N5: =TEXT(WEEKDAY(DATE(AnoDoCalendário,11,12),1),"ddd") -> ter | O5: =TEXT(WEEKDAY(DATE(AnoDoCalendário,11,13),1),"ddd") -> qua | P5: =TEXT(WEEKDAY(DATE(AnoDoCalendário,11,14),1),"ddd") -> qui | Q5: =TEXT(WEEKDAY(DATE(AnoDoCalendário,11,15),1),"ddd") -> sex | R5: =TEXT(WEEKDAY(DATE(AnoDoCalendário,11,16),1),"ddd") -> sáb | S5: =TEXT(WEEKDAY(DATE(AnoDoCalendário,11,17),1),"ddd") -> dom | T5: =TEXT(WEEKDAY(DATE(AnoDoCalendário,11,18),1),"ddd") -> seg | U5: =TEXT(WEEKDAY(DATE(AnoDoCalendário,11,19),1),"ddd") -> ter | V5: =TEXT(WEEKDAY(DATE(AnoDoCalendário,11,20),1),"ddd") -> qua | W5: =TEXT(WEEKDAY(DATE(AnoDoCalendário,11,21),1),"ddd") -> qui | X5: =TEXT(WEEKDAY(DATE(AnoDoCalendário,11,22),1),"ddd") -> sex | Y5: =TEXT(WEEKDAY(DATE(AnoDoCalendário,11,23),1),"ddd") -> sáb | Z5: =TEXT(WEEKDAY(DATE(AnoDoCalendário,11,24),1),"ddd") -> dom | AA5: =TEXT(WEEKDAY(DATE(AnoDoCalendário,11,25),1),"ddd") -> seg | AB5: =TEXT(WEEKDAY(DATE(AnoDoCalendário,11,26),1),"ddd") -> ter | AC5: =TEXT(WEEKDAY(DATE(AnoDoCalendário,11,27),1),"ddd") -> qua | AD5: =TEXT(WEEKDAY(DATE(AnoDoCalendário,11,28),1),"ddd") -> qui | AE5: =TEXT(WEEKDAY(DATE(AnoDoCalendário,11,29),1),"ddd") -> sex | AF5: =TEXT(WEEKDAY(DATE(AnoDoCalendário,11,30),1),"ddd") -> sáb
B6: Nome do Funcionário | C6: 1 | D6: 2 | E6: 3 | F6: 4 | G6: 5 | H6: 6 | I6: 7 | J6: 8 | K6: 9 | L6: 10 | M6: 11 | N6: 12 | O6: 13 | P6: 14 | Q6: 15 | R6: 16 | S6: 17 | T6: 18 | U6: 19 | V6: 20 | W6: 21 | X6: 22 | Y6: 23 | Z6: 24 | AA6: 25 | AB6: 26 | AC6: 27 | AD6: 28 | AE6: 29 | AF6: 30 | AH6: Total de Dias
B7: Funcionário 1 | AH7: =COUNTA(Novembro[[#This Row],[1]:[30]]) -> 0
B8: Funcionário 2 | AH8: =COUNTA(Novembro[[#This Row],[1]:[30]]) -> 0
B9: Funcionário 3 | AH9: =COUNTA(Novembro[[#This Row],[1]:[30]]) -> 0
B10: Funcionário 4 | AH10: =COUNTA(Novembro[[#This Row],[1]:[30]]) -> 0
B11: Funcionário 5 | AH11: =COUNTA(Novembro[[#This Row],[1]:[30]]) -> 0
B12: =NomeDoMês&" Total" -> Novembro Total | C12: =SUBTOTAL(103,Novembro[1]) -> 0 | D12: =SUBTOTAL(103,Novembro[2]) -> 0 | E12: =SUBTOTAL(103,Novembro[3]) -> 0 | F12: =SUBTOTAL(103,Novembro[4]) -> 0 | G12: =SUBTOTAL(103,Novembro[5]) -> 0 | H12: =SUBTOTAL(103,Novembro[6]) -> 0 | I12: =SUBTOTAL(103,Novembro[7]) -> 0 | J12: =SUBTOTAL(103,Novembro[8]) -> 0 | K12: =SUBTOTAL(103,Novembro[9]) -> 0 | L12: =SUBTOTAL(103,Novembro[10]) -> 0 | M12: =SUBTOTAL(103,Novembro[11]) -> 0 | N12: =SUBTOTAL(103,Novembro[12]) -> 0 | O12: =SUBTOTAL(103,Novembro[13]) -> 0 | P12: =SUBTOTAL(103,Novembro[14]) -> 0 | Q12: =SUBTOTAL(103,Novembro[15]) -> 0 | R12: =SUBTOTAL(103,Novembro[16]) -> 0 | S12: =SUBTOTAL(103,Novembro[17]) -> 0 | T12: =SUBTOTAL(103,Novembro[18]) -> 0 | U12: =SUBTOTAL(103,Novembro[19]) -> 0 | V12: =SUBTOTAL(103,Novembro[20]) -> 0 | W12: =SUBTOTAL(103,Novembro[21]) -> 0 | X12: =SUBTOTAL(103,Novembro[22]) -> 0 | Y12: =SUBTOTAL(103,Novembro[23]) -> 0 | Z12: =SUBTOTAL(103,Novembro[24]) -> 0 | AA12: =SUBTOTAL(103,Novembro[25]) -> 0 | AB12: =SUBTOTAL(103,Novembro[26]) -> 0 | AC12: =SUBTOTAL(103,Novembro[27]) -> 0 | AD12: =SUBTOTAL(103,Novembro[28]) -> 0 | AE12: =SUBTOTAL(103,Novembro[29]) -> 0 | AF12: =SUBTOTAL(103,Novembro[30]) -> 0 | AG12: =SUBTOTAL(103,Novembro[[ ]]) -> 0 | AH12: =SUBTOTAL(109,Novembro[Total de Dias]) -> 0

Sheet Dezembro
B1: =Título_Ausências_Funcionários -> Calendário de Ausências dos Funcionários
B2: Tipo de Ausência | C2: F | D2: Férias | F2: P | G2: Motivos Pessoais | K2: D | L2: Doença | O2: Personalizado 1 | T2: Personalizado 2
B4: Dezembro | C4: Datas da Ausência | AH4: =AnoDoCalendário -> 2019
C5: =TEXT(WEEKDAY(DATE(AnoDoCalendário,12,1),1),"ddd") -> dom | D5: =TEXT(WEEKDAY(DATE(AnoDoCalendário,12,2),1),"ddd") -> seg | E5: =TEXT(WEEKDAY(DATE(AnoDoCalendário,12,3),1),"ddd") -> ter | F5: =TEXT(WEEKDAY(DATE(AnoDoCalendário,12,4),1),"ddd") -> qua | G5: =TEXT(WEEKDAY(DATE(AnoDoCalendário,12,5),1),"ddd") -> qui | H5: =TEXT(WEEKDAY(DATE(AnoDoCalendário,12,6),1),"ddd") -> sex | I5: =TEXT(WEEKDAY(DATE(AnoDoCalendário,12,7),1),"ddd") -> sáb | J5: =TEXT(WEEKDAY(DATE(AnoDoCalendário,12,8),1),"ddd") -> dom | K5: =TEXT(WEEKDAY(DATE(AnoDoCalendário,12,9),1),"ddd") -> seg | L5: =TEXT(WEEKDAY(DATE(AnoDoCalendário,12,10),1),"ddd") -> ter | M5: =TEXT(WEEKDAY(DATE(AnoDoCalendário,12,11),1),"ddd") -> qua | N5: =TEXT(WEEKDAY(DATE(AnoDoCalendário,12,12),1),"ddd") -> qui | O5: =TEXT(WEEKDAY(DATE(AnoDoCalendário,12,13),1),"ddd") -> sex | P5: =TEXT(WEEKDAY(DATE(AnoDoCalendário,12,14),1),"ddd") -> sáb | Q5: =TEXT(WEEKDAY(DATE(AnoDoCalendário,12,15),1),"ddd") -> dom | R5: =TEXT(WEEKDAY(DATE(AnoDoCalendário,12,16),1),"ddd") -> seg | S5: =TEXT(WEEKDAY(DATE(AnoDoCalendário,12,17),1),"ddd") -> ter | T5: =TEXT(WEEKDAY(DATE(AnoDoCalendário,12,18),1),"ddd") -> qua | U5: =TEXT(WEEKDAY(DATE(AnoDoCalendário,12,19),1),"ddd") -> qui | V5: =TEXT(WEEKDAY(DATE(AnoDoCalendário,12,20),1),"ddd") -> sex | W5: =TEXT(WEEKDAY(DATE(AnoDoCalendário,12,21),1),"ddd") -> sáb | X5: =TEXT(WEEKDAY(DATE(AnoDoCalendário,12,22),1),"ddd") -> dom | Y5: =TEXT(WEEKDAY(DATE(AnoDoCalendário,12,23),1),"ddd") -> seg | Z5: =TEXT(WEEKDAY(DATE(AnoDoCalendário,12,24),1),"ddd") -> ter | AA5: =TEXT(WEEKDAY(DATE(AnoDoCalendário,12,25),1),"ddd") -> qua | AB5: =TEXT(WEEKDAY(DATE(AnoDoCalendário,12,26),1),"ddd") -> qui | AC5: =TEXT(WEEKDAY(DATE(AnoDoCalendário,12,27),1),"ddd") -> sex | AD5: =TEXT(WEEKDAY(DATE(AnoDoCalendário,12,28),1),"ddd") -> sáb | AE5: =TEXT(WEEKDAY(DATE(AnoDoCalendário,12,29),1),"ddd") -> dom | AF5: =TEXT(WEEKDAY(DATE(AnoDoCalendário,12,30),1),"ddd") -> seg | AG5: =TEXT(WEEKDAY(DATE(AnoDoCalendário,12,31),1),"ddd") -> ter
B6: Nome do Funcionário | C6: 1 | D6: 2 | E6: 3 | F6: 4 | G6: 5 | H6: 6 | I6: 7 | J6: 8 | K6: 9 | L6: 10 | M6: 11 | N6: 12 | O6: 13 | P6: 14 | Q6: 15 | R6: 16 | S6: 17 | T6: 18 | U6: 19 | V6: 20 | W6: 21 | X6: 22 | Y6: 23 | Z6: 24 | AA6: 25 | AB6: 26 | AC6: 27 | AD6: 28 | AE6: 29 | AF6: 30 | AG6: 31 | AH6: Total de Dias
B7: Funcionário 1 | AH7: =COUNTA(Dezembro[[#This Row],[1]:[31]]) -> 0
B8: Funcionário 2 | AH8: =COUNTA(Dezembro[[#This Row],[1]:[31]]) -> 0
B9: Funcionário 3 | AH9: =COUNTA(Dezembro[[#This Row],[1]:[31]]) -> 0
B10: Funcionário 4 | AH10: =COUNTA(Dezembro[[#This Row],[1]:[31]]) -> 0
B11: Funcionário 5 | AH11: =COUNTA(Dezembro[[#This Row],[1]:[31]]) -> 0
B12: =NomeDoMês&" Total" -> Dezembro Total | C12: =SUBTOTAL(103,Dezembro[1]) -> 0 | D12: =SUBTOTAL(103,Dezembro[2]) -> 0 | E12: =SUBTOTAL(103,Dezembro[3]) -> 0 | F12: =SUBTOTAL(103,Dezembro[4]) -> 0 | G12: =SUBTOTAL(103,Dezembro[5]) -> 0 | H12: =SUBTOTAL(103,Dezembro[6]) -> 0 | I12: =SUBTOTAL(103,Dezembro[7]) -> 0 | J12: =SUBTOTAL(103,Dezembro[8]) -> 0 | K12: =SUBTOTAL(103,Dezembro[9]) -> 0 | L12: =SUBTOTAL(103,Dezembro[10]) -> 0 | M12: =SUBTOTAL(103,Dezembro[11]) -> 0 | N12: =SUBTOTAL(103,Dezembro[12]) -> 0 | O12: =SUBTOTAL(103,Dezembro[13]) -> 0 | P12: =SUBTOTAL(103,Dezembro[14]) -> 0 | Q12: =SUBTOTAL(103,Dezembro[15]) -> 0 | R12: =SUBTOTAL(103,Dezembro[16]) -> 0 | S12: =SUBTOTAL(103,Dezembro[17]) -> 0 | T12: =SUBTOTAL(103,Dezembro[18]) -> 0 | U12: =SUBTOTAL(103,Dezembro[19]) -> 0 | V12: =SUBTOTAL(103,Dezembro[20]) -> 0 | W12: =SUBTOTAL(103,Dezembro[21]) -> 0 | X12: =SUBTOTAL(103,Dezembro[22]) -> 0 | Y12: =SUBTOTAL(103,Dezembro[23]) -> 0 | Z12: =SUBTOTAL(103,Dezembro[24]) -> 0 | AA12: =SUBTOTAL(103,Dezembro[25]) -> 0 | AB12: =SUBTOTAL(103,Dezembro[26]) -> 0 | AC12: =SUBTOTAL(103,Dezembro[27]) -> 0 | AD12: =SUBTOTAL(103,Dezembro[28]) -> 0 | AE12: =SUBTOTAL(103,Dezembro[29]) -> 0 | AF12: =SUBTOTAL(103,Dezembro[30]) -> 0 | AG12: =SUBTOTAL(103,Dezembro[31]) -> 0 | AH12: =SUBTOTAL(109,Dezembro[Total de Dias]) -> 0

Sheet Nomes dos Funcionários
B1: Nomes dos Funcionários
B3: Nomes dos Funcionários
B4: Funcionário 1
B5: Funcionário 2
B6: Funcionário 3
B7: Funcionário 4
B8: Funcionário 5
